BEGIN:VCALENDAR
VERSION:2.0
PRODID:-//Squarespace Inc/Squarespace 6//v6//EN
BEGIN:VEVENT
UID:56a9eb880e4c119a51c4b072@squarespace.com
DTSTAMP:20160315T022921Z
DTSTART:20160517T233000Z
DTEND:20160519T063000Z
SUMMARY:WELDING WORKSHOP - SOLD OUT!
END:VEVENT
END:VCALENDAR
