BEGIN:VCALENDAR
VERSION:2.0
PRODID:-//Squarespace Inc/Squarespace 6//v6//EN
BEGIN:VEVENT
UID:56bd598307eaa08db84cd088@squarespace.com
DTSTAMP:20160217T235402Z
DTSTART:20160804T233000Z
DTEND:20160806T063000Z
SUMMARY:WELDING WORKSHOP
END:VEVENT
END:VCALENDAR
