BEGIN:VCALENDAR
VERSION:2.0
PRODID:-//Squarespace Inc/Squarespace 6//v6//EN
BEGIN:VEVENT
UID:56c6499c356fb004b9649768@squarespace.com
DTSTAMP:20160218T225551Z
DTSTART:20160909T233000Z
DTEND:20160911T063000Z
SUMMARY:SOLAR PLATE ETCHING & VISCOSITY COLOUR PRINTING WORKSHOP
END:VEVENT
END:VCALENDAR
