BEGIN:VCALENDAR
VERSION:2.0
PRODID:-//Squarespace Inc/Squarespace 6//v6//EN
BEGIN:VEVENT
UID:56aaec521115e0a3f1374322@squarespace.com
DTSTAMP:20160217T235939Z
DTSTART:20160827T000000Z
DTEND:20160827T060000Z
SUMMARY:WOODFIRE COOKING WORKSHOP - AUGUST
END:VEVENT
END:VCALENDAR
