BEGIN:VCALENDAR
VERSION:2.0
PRODID:-//Squarespace Inc/Squarespace 6//v6//EN
BEGIN:VEVENT
UID:56bd52ed2eeb81b2be525947@squarespace.com
DTSTAMP:20160307T051341Z
DTSTART:20160624T233000Z
DTEND:20160626T063000Z
SUMMARY:LARGE FLORAL PAINTINGS
END:VEVENT
END:VCALENDAR
