BEGIN:VCALENDAR
VERSION:2.0
PRODID:-//Squarespace Inc/Squarespace 6//v6//EN
BEGIN:VEVENT
UID:56a9f2f00e4c119a51c4c716@squarespace.com
DTSTAMP:20160423T044609Z
DTSTART:20160812T233000Z
DTEND:20160814T063000Z
SUMMARY:RANDOM WEAVING WORKSHOP
END:VEVENT
END:VCALENDAR
