BEGIN:VCALENDAR
VERSION:2.0
PRODID:-//Squarespace Inc/Squarespace 6//v6//EN
BEGIN:VEVENT
UID:56a9f1905827c32599da4956@squarespace.com
DTSTAMP:20160222T101341Z
DTSTART:20160422T233000Z
DTEND:20160423T180000Z
SUMMARY:CORDING & TWINING WEAVING WORKSHOP
END:VEVENT
END:VCALENDAR
