BEGIN:VCALENDAR
VERSION:2.0
PRODID:-//Squarespace Inc/Squarespace 6//v6//EN
BEGIN:VEVENT
UID:56a9ed811c1210a072491908@squarespace.com
DTSTAMP:20160218T000023Z
DTSTART:20160416T000000Z
DTEND:20160416T060000Z
SUMMARY:WOODFIRE COOKING WORKSHOP 
END:VEVENT
END:VCALENDAR
