BEGIN:VCALENDAR
VERSION:2.0
PRODID:-//Squarespace Inc/Squarespace 6//v6//EN
BEGIN:VEVENT
UID:56947bd340667aed16415f83@squarespace.com
DTSTAMP:20160309T032809Z
DTSTART:20160411T233000Z
DTEND:20160413T063000Z
SUMMARY:ART THERAPY
END:VEVENT
END:VCALENDAR
