BEGIN:VCALENDAR
VERSION:2.0
PRODID:-//Squarespace Inc/Squarespace 6//v6//EN
BEGIN:VEVENT
UID:56947ab640667aed164155f9@squarespace.com
DTSTAMP:20160217T232224Z
DTSTART:20160304T223000Z
DTEND:20160306T053000Z
SUMMARY:DRAWING CHILDREN WITH PASTEL WORKSHOP
END:VEVENT
END:VCALENDAR
