BEGIN:VCALENDAR
VERSION:2.0
PRODID:-//Squarespace Inc/Squarespace 6//v6//EN
BEGIN:VEVENT
UID:56c64c1f2b8dde399206707c@squarespace.com
DTSTAMP:20160307T051359Z
DTSTART:20161104T223000Z
DTEND:20161106T053000Z
SUMMARY:PLEIN AIR PAINTING TECHNIQUES WITH OILS or ACRYLICS
END:VEVENT
END:VCALENDAR
