BEGIN:VCALENDAR
VERSION:2.0
PRODID:-//Squarespace Inc/Squarespace 6//v6//EN
BEGIN:VEVENT
UID:55ef73d0e4b0b0b3fba0a2f8@squarespace.com
DTSTAMP:20150921T023916Z
DTSTART:20150929T000000Z
DTEND:20150929T050000Z
SUMMARY:KIDS MOTION WORKSHOP - HIGH SCHOOL STUDENTS
GEO:-32.52662;149.624585
LOCATION:Rosby Wines & Guesthouse
END:VEVENT
END:VCALENDAR
