BEGIN:VCALENDAR
VERSION:2.0
PRODID:-//Squarespace Inc/Squarespace 6//v6//EN
BEGIN:VEVENT
UID:562086b9e4b0096117ac1f80@squarespace.com
DTSTAMP:20151020T010401Z
DTSTART:20151106T223000Z
DTEND:20151108T053000Z
SUMMARY:PORTRAITS IN PASTELS WORKSHOP with David Newman-White
END:VEVENT
END:VCALENDAR
