BEGIN:VCALENDAR
VERSION:2.0
PRODID:-//Squarespace Inc/Squarespace 6//v6//EN
BEGIN:VEVENT
UID:55ef7102e4b0c21dd4f3befe@squarespace.com
DTSTAMP:20150909T004813Z
DTSTART:20151007T223000Z
DTEND:20151008T053000Z
SUMMARY:Ephemeral Art Workshop
GEO:-32.52662;149.624585
LOCATION:Rosby Wines & Guesthouse
END:VEVENT
END:VCALENDAR
